BEGIN:VCALENDAR
VERSION:2.0
PRODID:-//wp-events-plugin.com//7.2.3.1//EN
TZID:Europe/Paris
X-WR-TIMEZONE:Europe/Paris
BEGIN:VEVENT
UID:3@rscmplongee.com
DTSTART;TZID=Europe/Paris:20251210T000000
DTEND;TZID=Europe/Paris:20251231T000000
DTSTAMP:20251210T192739Z
URL:https://rscmplongee.com/events/handisub/
SUMMARY:HandiSub
DESCRIPTION:test pour voir
ATTACH;FMTTYPE=image/jpeg:https://rscmplongee.com/wp-content/uploads/2025/
 11/SportDiver_20251113_160117-scaled.jpg
END:VEVENT
BEGIN:VTIMEZONE
TZID:Europe/Paris
X-LIC-LOCATION:Europe/Paris
BEGIN:STANDARD
DTSTART:20251026T020000
TZOFFSETFROM:+0200
TZOFFSETTO:+0100
TZNAME:CET
END:STANDARD
END:VTIMEZONE
END:VCALENDAR